BEGIN:VCALENDAR
VERSION:2.0
PRODID:-//eventon.com NONSGML v1.0//EN
CALSCALE:GREGORIAN
METHOD:PUBLISH
BEGIN:VEVENT
UID:69e6d813e7de0
DTSTAMP:20260420T215115
DTSTART:20260404T120000Z
DTEND:20260404T180000Z
TZID:Atlantic/St_Helena
LOCATION:Strawberry Moon 601 Washington Ave\,  Miami Beach\,  FL 33139\,  United States
SUMMARY:STRAWBERRY MOON POOL PARTY
DESCRIPTION: Join one of Miami’s hottest rooftop pool parties at Strawberry Moon in The Goodtime Hotel. Featuring live DJs\,  VIP cabanas\,  bottle service\,  and a lively South Beach atmosphere every weekend.\nhttps://miamiviplife.com/events/the-pool-at-strawberry-moon-25/var/ri-17.l-L1
URL:https://miamiviplife.com/events/the-pool-at-strawberry-moon-25/var/ri-17.l-L1
END:VEVENT
END:VCALENDAR